BEGIN:VCALENDAR
PRODID:-//eluceo/ical//2.0/EN
VERSION:2.0
CALSCALE:GREGORIAN
BEGIN:VEVENT
UID:959c0bff3a7c45a508de6d83a50c2de6
DTSTAMP:20260420T212055Z
SUMMARY:Hur kan Rotary bidra till Hållbar utveckling ?
DESCRIPTION:Speaker(s): Ulf Andersson Biolog och f d miljösamordnare\, mi
 ljörevisor och\nprojektledare vid Göteborgs universitet.Club\nExecutive 
 Secretary Göteborg-Kungsporten\nRotaryklubb    
URL:https://ljungskile.rotaryklubb.org/en/agenda/show/215739
DTSTART;TZID=Europe/Zurich:20260302T114500
DTEND;TZID=Europe/Zurich:20260302T133000
LOCATION:Ljungskile Folkhögskola\, Valdemar Svenssons v. 11\, 45980 Ljungs
 kile\, Sverige
CATEGORIES:Rotary
END:VEVENT
BEGIN:VTIMEZONE
TZID:Europe/Zurich
BEGIN:STANDARD
DTSTART:20260302T114500
TZNAME:CET
TZOFFSETTO:+0100
TZOFFSETFROM:+0100
END:STANDARD
END:VTIMEZONE
END:VCALENDAR
