BEGIN:VCALENDAR
PRODID:-//eluceo/ical//2.0/EN
VERSION:2.0
CALSCALE:GREGORIAN
BEGIN:VEVENT
UID:3760f1757b283aa202247c8207cdf54f
DTSTAMP:20260420T172229Z
SUMMARY:Hälsa i dina händer – Vägen till ett friskare och starkare liv
DESCRIPTION:Website: https://www.youtube.com/shorts/1NNyzHmRzsU?feature=sha
 re\nSpeaker(s): Ara Rohi började sin resa som akupunktör 1998 i Uddevall
 a. Med en passion för att hjälpa människor utvecklade han sin kompetens
  genom vidareutbildning i London. Därefter fick han möjligheten att arbe
 ta i New York\, där han samlade värdefull erfarenhet inom sitt yrke. Med
  en grundutbildning som sjuksköterska och en ettårig utbildning inom lä
 kemedel vid Uppsala universitet har han en bred medicinsk bakgrund som han
  använder för att ge bästa möjliga vård. Genom att kombinera moderna 
 tekniker och traditionella metoder strävar han efter att hjälpa varje pa
 tient att nå sitt bästa välmående. \n\nCV – Ara Rohi\n Fysioterapeu
 t\, akupunktör\, medicinsk utbildare och författare\n Grundare av Arafys
 ioterapi (1998)\n Utbildningar:• Fysioterapeututbildning\, London (2013)
  • Röntgensköterskeutbildning\, Uppsala (1992)\n • Medicin & farmako
 logi\, Uppsala universitet (1-årig utbildning)\n • Akupunktör (TCM)\, 
 3-årig utbildning i Enköping (2000)\n • Vidareutbildning i akupunktur\
 , London & New York\n Arbetslivserfarenhet:\n • Cirka 30 år som klinisk
 t verksam terapeut inom fysioterapi\, akupunktur och \nsmärtbehandling.Ar
 a inleder med att berätta om sin flykt från Iran som ung\nsom han skrivi
 t om i sin bok ”Med hjärtat som kompass”. Pågående bokprojekt: H
 älsa för livet  Med hjärtat som kompass (självbiografi)\n\n 
URL:https://ljungskile.rotaryklubb.org/en/agenda/show/215741
DTSTART;TZID=Europe/Zurich:20260316T114500
DTEND;TZID=Europe/Zurich:20260316T133000
LOCATION:Ljungskile Folkhögskola\, Valdemar Svenssons v. 11\, 45980 Ljungs
 kile\, Sverige
CATEGORIES:Rotary
END:VEVENT
BEGIN:VTIMEZONE
TZID:Europe/Zurich
BEGIN:STANDARD
DTSTART:20260316T114500
TZNAME:CET
TZOFFSETTO:+0100
TZOFFSETFROM:+0100
END:STANDARD
END:VTIMEZONE
END:VCALENDAR
