BEGIN:VCALENDAR
PRODID:-//eluceo/ical//2.0/EN
VERSION:2.0
CALSCALE:GREGORIAN
BEGIN:VEVENT
UID:cad8d1b0777aa955e5edffbcbbbf0e21
DTSTAMP:20260420T172010Z
SUMMARY:Språk-café
DESCRIPTION:
URL:https://ljungskile.rotaryklubb.org/sv/agenda/show/158201
DTSTART;TZID=Europe/Zurich:20181205T170000
DTEND;TZID=Europe/Zurich:20181205T190000
LOCATION:Högskolecentrum Östergatan 18 A Uddevalla\n
CATEGORIES:Rotary
END:VEVENT
BEGIN:VTIMEZONE
TZID:Europe/Zurich
BEGIN:STANDARD
DTSTART:20181205T170000
TZNAME:CET
TZOFFSETTO:+0100
TZOFFSETFROM:+0100
END:STANDARD
END:VTIMEZONE
END:VCALENDAR
