BEGIN:VCALENDAR
PRODID:-//eluceo/ical//2.0/EN
VERSION:2.0
CALSCALE:GREGORIAN
BEGIN:VEVENT
UID:5142ba729636b5e2dd051362d7aaffce
DTSTAMP:20260420T212944Z
SUMMARY:Jultallrik Åh Stift- och Konferansgård
DESCRIPTION:
URL:https://ljungskile.rotaryklubb.org/sv/agenda/show/161479
DTSTART;TZID=Europe/Zurich:20181210T183000
DTEND;TZID=Europe/Zurich:20181210T210000
LOCATION:Åh Stiftsgård\n
CATEGORIES:Rotary
END:VEVENT
BEGIN:VTIMEZONE
TZID:Europe/Zurich
BEGIN:STANDARD
DTSTART:20181210T183000
TZNAME:CET
TZOFFSETTO:+0100
TZOFFSETFROM:+0100
END:STANDARD
END:VTIMEZONE
END:VCALENDAR
